BEGIN:VCALENDAR
VERSION:2.0
PRODID:-//Island Academy - ECPv6.15.20//NONSGML v1.0//EN
CALSCALE:GREGORIAN
METHOD:PUBLISH
X-ORIGINAL-URL:https://www.islandacademy.com
X-WR-CALDESC:Events for Island Academy
REFRESH-INTERVAL;VALUE=DURATION:PT1H
X-Robots-Tag:noindex
X-PUBLISHED-TTL:PT1H
BEGIN:VTIMEZONE
TZID:America/Antigua
BEGIN:STANDARD
TZOFFSETFROM:-0400
TZOFFSETTO:-0400
TZNAME:AST
DTSTART:20210101T000000
END:STANDARD
END:VTIMEZONE
BEGIN:VEVENT
DTSTART;TZID=America/Antigua:20250703T080000
DTEND;TZID=America/Antigua:20250703T120000
DTSTAMP:20260423T170005
CREATED:20250526T123319Z
LAST-MODIFIED:20250526T123319Z
UID:4907-1751529600-1751544000@www.islandacademy.com
SUMMARY:End of Term
DESCRIPTION:
URL:https://www.islandacademy.com/event/end-of-term/
END:VEVENT
BEGIN:VEVENT
DTSTART;TZID=America/Antigua:20240409T080000
DTEND;TZID=America/Antigua:20240409T170000
DTSTAMP:20260423T170005
CREATED:20240220T134431Z
LAST-MODIFIED:20240220T134555Z
UID:4027-1712649600-1712682000@www.islandacademy.com
SUMMARY:Term 3 2023-24 Starts
DESCRIPTION:
URL:https://www.islandacademy.com/event/term-3-2023-24-starts/
END:VEVENT
BEGIN:VEVENT
DTSTART;TZID=America/Antigua:20240319T080000
DTEND;TZID=America/Antigua:20240319T150000
DTSTAMP:20260423T170005
CREATED:20240220T134211Z
LAST-MODIFIED:20240220T134211Z
UID:4022-1710835200-1710860400@www.islandacademy.com
SUMMARY:Academic Review Day
DESCRIPTION:
URL:https://www.islandacademy.com/event/academic-review-day-2/
END:VEVENT
BEGIN:VEVENT
DTSTART;TZID=America/Antigua:20240315T180000
DTEND;TZID=America/Antigua:20240315T210000
DTSTAMP:20260423T170005
CREATED:20240220T133941Z
LAST-MODIFIED:20240220T133941Z
UID:4020-1710525600-1710536400@www.islandacademy.com
SUMMARY:IA's Got Talent & Bingo Night
DESCRIPTION:
URL:https://www.islandacademy.com/event/ias-got-talent-bingo-night/
END:VEVENT
BEGIN:VEVENT
DTSTART;TZID=America/Antigua:20240220T080000
DTEND;TZID=America/Antigua:20240220T120000
DTSTAMP:20260423T170005
CREATED:20240220T134318Z
LAST-MODIFIED:20240220T134318Z
UID:4024-1708416000-1708430400@www.islandacademy.com
SUMMARY:Term 2 2023-24 Ends
DESCRIPTION:
URL:https://www.islandacademy.com/event/term-2-2023-24-ends/
END:VEVENT
BEGIN:VEVENT
DTSTART;TZID=America/Antigua:20230628T081000
DTEND;TZID=America/Antigua:20230628T120000
DTSTAMP:20260423T170005
CREATED:20230228T140312Z
LAST-MODIFIED:20230228T140312Z
UID:3237-1687939800-1687953600@www.islandacademy.com
SUMMARY:Term 3 Ends
DESCRIPTION:School ends at 12 noon.
URL:https://www.islandacademy.com/event/term-3-ends/
END:VEVENT
BEGIN:VEVENT
DTSTART;VALUE=DATE:20230529
DTEND;VALUE=DATE:20230530
DTSTAMP:20260423T170005
CREATED:20230228T135917Z
LAST-MODIFIED:20230320T160342Z
UID:3235-1685318400-1685404799@www.islandacademy.com
SUMMARY:Public Holiday - Whit Monday
DESCRIPTION:
URL:https://www.islandacademy.com/event/public-holiday-whit-monday/
END:VEVENT
BEGIN:VEVENT
DTSTART;VALUE=DATE:20230501
DTEND;VALUE=DATE:20230502
DTSTAMP:20260423T170005
CREATED:20230228T135819Z
LAST-MODIFIED:20230228T135819Z
UID:3233-1682899200-1682985599@www.islandacademy.com
SUMMARY:Public Holiday - Labour Day
DESCRIPTION:
URL:https://www.islandacademy.com/event/public-holiday-labour-day/
END:VEVENT
BEGIN:VEVENT
DTSTART;TZID=America/Antigua:20230418T081000
DTEND;TZID=America/Antigua:20230418T145000
DTSTAMP:20260423T170005
CREATED:20230228T135721Z
LAST-MODIFIED:20230228T135721Z
UID:3231-1681805400-1681829400@www.islandacademy.com
SUMMARY:Term 3 Begins
DESCRIPTION:
URL:https://www.islandacademy.com/event/term-3-begins/
END:VEVENT
BEGIN:VEVENT
DTSTART;TZID=America/Antigua:20230331T080000
DTEND;TZID=America/Antigua:20230331T120000
DTSTAMP:20260423T170005
CREATED:20230228T135526Z
LAST-MODIFIED:20230228T140406Z
UID:3229-1680249600-1680264000@www.islandacademy.com
SUMMARY:Term 2 Ends
DESCRIPTION:
URL:https://www.islandacademy.com/event/last-day-of-term-2/
END:VEVENT
BEGIN:VEVENT
DTSTART;TZID=America/Antigua:20230324T190000
DTEND;TZID=America/Antigua:20230324T210000
DTSTAMP:20260423T170005
CREATED:20230228T144933Z
LAST-MODIFIED:20230228T144933Z
UID:3240-1679684400-1679691600@www.islandacademy.com
SUMMARY:School Play - Click for More Info
DESCRIPTION:
URL:https://www.islandacademy.com/event/school-play-click-for-more-info/
LOCATION:Dean William Lake Cultural Centre\, St. John's\, Antigua and Barbuda
END:VEVENT
BEGIN:VEVENT
DTSTART;VALUE=DATE:20221209
DTEND;VALUE=DATE:20230104
DTSTAMP:20260423T170005
CREATED:20220914T023454Z
LAST-MODIFIED:20220914T023454Z
UID:3185-1670544000-1672790399@www.islandacademy.com
SUMMARY:Christmas Break
DESCRIPTION:
URL:https://www.islandacademy.com/event/christmas-break/
END:VEVENT
BEGIN:VEVENT
DTSTART;VALUE=DATE:20221031
DTEND;VALUE=DATE:20221104
DTSTAMP:20260423T170005
CREATED:20220914T023302Z
LAST-MODIFIED:20220922T190632Z
UID:3183-1667174400-1667519999@www.islandacademy.com
SUMMARY:Mid-Term Break
DESCRIPTION:
URL:https://www.islandacademy.com/event/mid-term-break/
END:VEVENT
BEGIN:VEVENT
DTSTART;TZID=America/Antigua:20221025T080000
DTEND;TZID=America/Antigua:20221025T143000
DTSTAMP:20260423T170005
CREATED:20221013T140352Z
LAST-MODIFIED:20221013T140352Z
UID:3195-1666684800-1666708200@www.islandacademy.com
SUMMARY:Academic Review Day
DESCRIPTION:
URL:https://www.islandacademy.com/event/academic-review-day/
END:VEVENT
END:VCALENDAR